BEGIN:VCALENDAR
VERSION:2.0
PRODID:-//wp-events-plugin.com//7.2.3.1//EN
TZID:America/New_York
X-WR-TIMEZONE:America/New_York
BEGIN:VEVENT
UID:3983@nuuc.org
DTSTART;TZID=America/New_York:20240408T120000
DTEND;TZID=America/New_York:20240408T160000
DTSTAMP:20240321T171530Z
URL:https://www.nuuc.org/events/eclipse-watch-party/
SUMMARY:Eclipse Watch Party
DESCRIPTION:Eclipse Watch Party - Monday\, April 8\n\n&nbsp\;\n\nNUUC is in
  the path of totality! Join us to watch the solar eclipse on Monday\, Ap
 ril 8. We will have a variety of activities available for adults and youn
 g people\, including board games\, moon crafts\, and a movie. Feel free to
  bring a game or a snack to share. (Just remember that our kitchen is stil
 l under renovation.) Please also bring your own eclipse glasses or viewer 
 for the partial eclipse.\n\n&nbsp\;\n\nActivities from noon - 4pm. Drop in
  whenever you like! Note that Central Ohio anticipates many visitors and 
 there may be significant traffic\, so please plan accordingly. Partial ecl
 ipse begins at about 1:55pm. Total eclipse begins at about 3:11 and will l
 ast about 2 minutes. Please RSVP to Morgan at morgan@nuuc.org.
CATEGORIES:Social
END:VEVENT
BEGIN:VTIMEZONE
TZID:America/New_York
X-LIC-LOCATION:America/New_York
BEGIN:DAYLIGHT
DTSTART:20240310T030000
TZOFFSETFROM:-0500
TZOFFSETTO:-0400
TZNAME:EDT
END:DAYLIGHT
END:VTIMEZONE
END:VCALENDAR