BEGIN:VCALENDAR
VERSION:2.0
PRODID:-//wp-events-plugin.com//7.2.3.1//EN
TZID:America/New_York
X-WR-TIMEZONE:America/New_York
BEGIN:VEVENT
UID:4632@nuuc.org
DTSTART;TZID=America/New_York:20260507T190000
DTEND;TZID=America/New_York:20260507T203000
DTSTAMP:20260330T195051Z
URL:https://www.nuuc.org/events/fairies-folklore-and-the-fantastic-the-car
 terhaugh-school-at-nuuc/
SUMMARY:Fairies\, Folklore\, and the Fantastic: The Carterhaugh School at N
 UUC
DESCRIPTION:On May 7 at 7PM\, step into the world of the Fae with the North
  Unitarian Universalist Congregation as we welcome Dr. Sara Cleto and Dr. 
 Brittany Warman of The Carterhaugh School of Folklore &amp\; the Fantastic
 \, and enjoy an evening of wine\, snacks\, engaging discussion. These reno
 wned folklorists will offer an exclusive virtual lecture inspired by their
  new book\, Fairylore: A Compendium of the Fae Folk.   Together we’ll 
 explore how fairies — from the gentle to the uncanny — have danced thr
 ough stories across cultures\, faith traditions\, and centuries. Whether y
 ou’re a UU\, a lover of myth\, folklore and cultural history\, a practic
 ing pagan\, or simply someone who enjoys a good tale well told\, this even
 ing promises delight\, insight\, and a touch of enchantment.
CATEGORIES:Community
END:VEVENT
BEGIN:VTIMEZONE
TZID:America/New_York
X-LIC-LOCATION:America/New_York
BEGIN:DAYLIGHT
DTSTART:20260308T030000
TZOFFSETFROM:-0500
TZOFFSETTO:-0400
TZNAME:EDT
END:DAYLIGHT
END:VTIMEZONE
END:VCALENDAR